BEGIN:VCALENDAR
PRODID:-//eluceo/ical//2.0/EN
VERSION:2.0
CALSCALE:GREGORIAN
BEGIN:VEVENT
UID:ce654c2911725f49035517f4a67b7833
DTSTAMP:20260419T151508Z
SUMMARY:United Jewish Federation of Utah Girls Night Out
DESCRIPTION:United Jewish Federation of Utah\nCalendar\nhttps://shalomutah.
 org/united-jewish-federation-of-utah-calendar/united-jewish-federation-of-
 utah-girls-night-out-1421781174\n\nPlease join us to another enjoyable eve
 ning with friends and a speaker.\nDate:               Thursday &ndash\; Fe
 bruary 5\, 2015\nTime:               7:00pm &ndash\; 9:00pm \nPlace:      
         Home of Bonnie Rokeach\nFood:               Light food\, wine and 
 dessert will be served\nCost:                free\nGuest Presenter:       
 Annabel Sheinberg \nBio: Annabel Sheinberg is the Education Director for P
 lanned Parenthood Association of Utah.  She has held this position since 2
 007. During that time has...
DTSTART;TZID=America/Denver:20150205T190000
DTEND;TZID=America/Denver:20150205T210000
END:VEVENT
END:VCALENDAR
