BEGIN:VCALENDAR
PRODID:-//eluceo/ical//2.0/EN
VERSION:2.0
CALSCALE:GREGORIAN
BEGIN:VEVENT
UID:4d74eb7fadaa7978877d0aeac3007207
DTSTAMP:20260419T183206Z
SUMMARY:United Jewish Federation of Utah Guys Night Out
DESCRIPTION:United Jewish Federation of Utah\nCalendar\nhttps://shalomutah.
 org/united-jewish-federation-of-utah-calendar/united-jewish-federation-of-
 utah-guys-night-out-1421780685\n\nPlease join us for an exciting discussio
 n &ndash\; and a fun &amp\; relaxing evening.\n\nDate:               Wedne
 sday &ndash\; February 11\, 2015\nTime:               6:00pm &ndash\; 8:00
 pm \n\nPlace:              Home of David Kliger\n                         
  3721 E. Blue Jay Lane\n                          Salt Lake City - 84121\n
 \nFood:               Light Dinner will be served\nCost:                $1
 5 at the door &ndash\; honor system \n\nGuest Presenter:             Tyson
  Bradley\, Senior Guide &ndash\; Utah Mountain...
DTSTART;TZID=America/Denver:20150211T180000
DTEND;TZID=America/Denver:20150211T200000
END:VEVENT
END:VCALENDAR
