BEGIN:VCALENDAR
PRODID:-//eluceo/ical//2.0/EN
VERSION:2.0
CALSCALE:GREGORIAN
BEGIN:VEVENT
UID:ce55608318a1916e283537929459be7e
DTSTAMP:20260420T142546Z
SUMMARY:United Jewish Federation of Utah Lunch & Learn
DESCRIPTION:United Jewish Federation of Utah\nCalendar\nhttps://shalomutah.
 org/united-jewish-federation-of-utah-calendar/united-jewish-federation-of-
 utah-lunch--learn\n\nUJF of UT Lunch & Learn
DTSTART;TZID=America/Denver:20140108T110000
DTEND;TZID=America/Denver:20140108T130000
END:VEVENT
END:VCALENDAR
