BEGIN:VCALENDAR
PRODID:-//eluceo/ical//2.0/EN
VERSION:2.0
CALSCALE:GREGORIAN
BEGIN:VEVENT
UID:49e52ce12aac25b1dc2fca05d9773831
DTSTAMP:20260420T062438Z
SUMMARY:United Jewish Federation of Utah Men's Club
DESCRIPTION:United Jewish Federation of Utah\nCalendar\nhttps://shalomutah.
 org/united-jewish-federation-of-utah-calendar/united-jewish-federation-of-
 utah-mens-club\n\nUJF of UT Men's Club
DTSTART;TZID=America/Denver:20130822T180000
DTEND;TZID=America/Denver:20130822T203000
END:VEVENT
END:VCALENDAR
