BEGIN:VCALENDAR
PRODID:-//eluceo/ical//2.0/EN
VERSION:2.0
CALSCALE:GREGORIAN
BEGIN:VEVENT
UID:986b59e982dcf5a8d880137b78fe6e5e
DTSTAMP:20260420T073613Z
SUMMARY:United Jewish Federation of Utah Men's Group
DESCRIPTION:United Jewish Federation of Utah\nCalendar\nhttps://shalomutah.
 org/united-jewish-federation-of-utah-calendar/united-jewish-federation-of-
 utah-mens-group\n\nUJF of UT Men's Club
DTSTART;TZID=America/Denver:20140129T180000
DTEND;TZID=America/Denver:20140129T200000
END:VEVENT
END:VCALENDAR
