BEGIN:VCALENDAR
PRODID:-//eluceo/ical//2.0/EN
VERSION:2.0
CALSCALE:GREGORIAN
BEGIN:VEVENT
UID:26547b89f734f3de767eafcbdecdf035
DTSTAMP:20260419T232337Z
SUMMARY:United Jewish Federation of Utah Summer Party
DESCRIPTION:United Jewish Federation of Utah\nCalendar\nhttps://shalomutah.
 org/united-jewish-federation-of-utah-calendar/united-jewish-federation-of-
 utah-summer-party\n\nFederation Summer Party
DTSTART;TZID=America/Denver:20130717T183000
DTEND;TZID=America/Denver:20130717T210000
END:VEVENT
END:VCALENDAR
