BEGIN:VCALENDAR
PRODID:-//eluceo/ical//2.0/EN
VERSION:2.0
CALSCALE:GREGORIAN
BEGIN:VEVENT
UID:4adec991d7fcda966573cb204a651d97
DTSTAMP:20260420T062448Z
SUMMARY:United Jewish Federation of Utah Women Lunch and Learn
DESCRIPTION:United Jewish Federation of Utah\nCalendar\nhttps://shalomutah.
 org/united-jewish-federation-of-utah-calendar/united-jewish-federation-of-
 utah-women-lunch-and-learn-1480629924\n\nFlying from Berlin\, Jackie Osher
 ow will delight us with her teaching. We will continue where we left off i
 n September\, with the story of Absalom\, King David's son. Free as this p
 rogram is underwritten by the following women: Thank you to: Susan Arsht\,
  Amy Baker\, Joanne Bloom\, Beth Brandt\, Linda Brownstein\, Tamara Bush\,
  Ruth Davidson\, Joy Erickson\, Liz Fellows\, Joy Fisher\, Judy Horwitz\, 
 Pamela Kantrowitz\, Debra Kasirer\, Carol Kotler\, Judith Meshorer Linsey\
 , Diane Siegel\, Beano Solomon\, Elana S...
DTSTART;TZID=America/Denver:20161221T120000
DTEND;TZID=America/Denver:20161221T140000
END:VEVENT
END:VCALENDAR
