BEGIN:VCALENDAR
PRODID:-//eluceo/ical//2.0/EN
VERSION:2.0
CALSCALE:GREGORIAN
BEGIN:VEVENT
UID:449b200c949fd1738b6d6263aa1d03a7
DTSTAMP:20260420T142613Z
SUMMARY:United Jewish Federation Women Lunch and Learn January 2017
DESCRIPTION:United Jewish Federation of Utah\nCalendar\nhttps://shalomutah.
 org/united-jewish-federation-of-utah-calendar/united-jewish-federation-wom
 en-lunch-and-learn-january-2017\n\nGuest Presenter: Rabbi David Levinsky\,
  Temple Har Shalom\n\nTopic: Ambigious Bodies: What Makes a Man a Man and
  a Woman a Woman in Rabbinic Literature?\n\nCost: free\n\nLocation: TBD in
  Park City
DTSTART;TZID=America/Denver:20170111T120000
DTEND;TZID=America/Denver:20170111T140000
END:VEVENT
END:VCALENDAR
