BEGIN:VCALENDAR
PRODID:-//eluceo/ical//2.0/EN
VERSION:2.0
CALSCALE:GREGORIAN
BEGIN:VEVENT
UID:71ea5ab6e832b61a8f79b17d443c673e
DTSTAMP:20260420T131838Z
SUMMARY:Vigil for the The Victims of the Pittsburgh Shooting
DESCRIPTION:United Jewish Federation of Utah\nCalendar\nhttps://shalomutah.
 org/united-jewish-federation-of-utah-calendar/vigil-for-the-the-victims-of
 -the-pittsburgh-shooting-1540760832\n\nOur hearts are broken as we contemp
 late the hate-inspired violence that has gripped America over the past wee
 k.  We feel pain at the death of Rose Mallinger\, who survived the Holocau
 st only to die at the hands of an anti-Semite.  Our sadness and pain are r
 eal.\n\nAt times like this we must come together as a community.  We must 
 remember the powerful feelings of support and togetherness that Judaism br
 ings to our lives.  We will do so at a Vigil for the Victims of the Pittsb
 urgh Shooting on...
DTSTART;TZID=America/Denver:20181029T190000
DTEND;TZID=America/Denver:20181029T203000
END:VEVENT
END:VCALENDAR
