BEGIN:VCALENDAR
PRODID:-//eluceo/ical//2.0/EN
VERSION:2.0
CALSCALE:GREGORIAN
BEGIN:VEVENT
UID:f8982f36894b9391d1df1e98d0f72f5c
DTSTAMP:20260420T010641Z
SUMMARY:Virtual Men's Night Out
DESCRIPTION:United Jewish Federation of Utah\nCalendar\nhttps://shalomutah.
 org/united-jewish-federation-of-utah-calendar/virtual-mens-night-out-15869
 09145\n\nGuest Presenter:    Dr. Tara Jones\n\nTopic:  Fixing Hearts\n\n \
 n\nDr. Jones is board certified in Internal Medicine\, Cardiovascular Dise
 ase\, and Interventional Cardiology.  She is currently completing a fellow
 ship in structural and valvular heart disease and will begin her faculty p
 osition as an Assistant Professor at the University of Utah in August. She
  has published numerous articles in cardiovascular disease journals\, with
  her research interests involving cardiogenic shock and...
DTSTART;TZID=America/Denver:20200423T190000
DTEND;TZID=America/Denver:20200423T200000
END:VEVENT
END:VCALENDAR
