BEGIN:VCALENDAR
PRODID:-//eluceo/ical//2.0/EN
VERSION:2.0
CALSCALE:GREGORIAN
BEGIN:VEVENT
UID:0c2305f523b12c0d0765e3cdd7410baf
DTSTAMP:20260423T013954Z
SUMMARY:Virtual Men's Night Out
DESCRIPTION:United Jewish Federation of Utah\nCalendar\nhttps://shalomutah.
 org/united-jewish-federation-of-utah-calendar/virtual-mens-night-out-15886
 08461\n\n"How Presidential Elections Turned Into Personality Contests"\n\n
 Speaker: Richard Ellis\n\nYou must email ashapiro@shalomutah.org to get th
 e Zoom link.
DTSTART;TZID=America/Denver:20200513T190000
DTEND;TZID=America/Denver:20200513T200000
END:VEVENT
END:VCALENDAR
