BEGIN:VCALENDAR
PRODID:-//eluceo/ical//2.0/EN
VERSION:2.0
CALSCALE:GREGORIAN
BEGIN:VEVENT
UID:51859afc4208b80769541d63dc12071a
DTSTAMP:20260420T205333Z
SUMMARY:Virtual Men's Night Out
DESCRIPTION:United Jewish Federation of Utah\nCalendar\nhttps://shalomutah.
 org/united-jewish-federation-of-utah-calendar/virtual-mens-night-out-16093
 65011\n\nSpeaker: Herb Lichtenstein\n\nMore details to follow
DTSTART;TZID=America/Denver:20210121T180000
DTEND;TZID=America/Denver:20210121T190000
END:VEVENT
END:VCALENDAR
