BEGIN:VCALENDAR
PRODID:-//eluceo/ical//2.0/EN
VERSION:2.0
CALSCALE:GREGORIAN
BEGIN:VEVENT
UID:a327acd84315829cb121159ee5b2f8c9
DTSTAMP:20260421T045214Z
SUMMARY:Virtual Women's Dinner and Discussion
DESCRIPTION:United Jewish Federation of Utah\nCalendar\nhttps://shalomutah.
 org/united-jewish-federation-of-utah-calendar/virtual-womens-dinner-and-di
 scussion\n\nTopic: Aristides De Sousa Mendes—Holocaust Hero\n\nSpeaker:
  Dr. Olivia Mattis\n\nBio: Sousa Mendes Foundation President Dr. Olivia 
 Mattis is an award-winning musicologist and author with a Ph.D. from Stan
 ford University and a B.A. from Yale University. Twelve members of her pat
 ernal family were rescued by Aristides de Sousa Mendes as they escaped fro
 m Belgium in 1940\; meanwhile\, her maternal grandparents founded and led 
 the Jewish Resistance there\, while her mother was a hidden child. Matti..
 .
DTSTART;TZID=America/Denver:20200514T180000
DTEND;TZID=America/Denver:20200514T190000
END:VEVENT
END:VCALENDAR
