BEGIN:VCALENDAR
PRODID:-//eluceo/ical//2.0/EN
VERSION:2.0
CALSCALE:GREGORIAN
BEGIN:VEVENT
UID:d4664fe5e7a18f5a0e3ec34789615478
DTSTAMP:20260424T062625Z
SUMMARY:Virtual Women's Lunch and Learn
DESCRIPTION:United Jewish Federation of Utah\nCalendar\nhttps://shalomutah.
 org/united-jewish-federation-of-utah-calendar/virtual-womens-lunch-and-lea
 rn\n\nTopic: Jewish Family Services of Utah shares advice for maintaining
  mindfulness and remaining calm during this pandemic\n\nSpeaker: Alle Sal
 azar\, LCSW\, Director of Professional Services at Jewish Family Services 
 of Utah
DTSTART;TZID=America/Denver:20200519T120000
DTEND;TZID=America/Denver:20200519T130000
END:VEVENT
END:VCALENDAR
