BEGIN:VCALENDAR
PRODID:-//eluceo/ical//2.0/EN
VERSION:2.0
CALSCALE:GREGORIAN
BEGIN:VEVENT
UID:f3cd34571d73c964875afa0fbc8fbed5
DTSTAMP:20260420T201217Z
SUMMARY:Virtual Women's Lunch and Learn
DESCRIPTION:United Jewish Federation of Utah\nCalendar\nhttps://shalomutah.
 org/united-jewish-federation-of-utah-calendar/virtual-womens-lunch-and-lea
 rn-1588608271\n\nSpeaker: Diane Hartz Warsoff
DTSTART;TZID=America/Denver:20200507T120000
DTEND;TZID=America/Denver:20200507T130000
END:VEVENT
END:VCALENDAR
