BEGIN:VCALENDAR
PRODID:-//eluceo/ical//2.0/EN
VERSION:2.0
CALSCALE:GREGORIAN
BEGIN:VEVENT
UID:40c38c200f71987d9a1f269db5c12cad
DTSTAMP:20260422T231820Z
SUMMARY:Welcome Back BBQ & Open House
DESCRIPTION:United Jewish Federation of Utah\nCalendar\nhttps://shalomutah.
 org/united-jewish-federation-of-utah-calendar/welcome-back-bbq--open-house
 -1486491083\n\nStudents! Come meet your teachers\, see your friends\, and 
 find out what KAJY has planned. Parents! Come learn about our curriculum\,
  meet the teachers and the director\, and stay for a great\, kosher barbec
 ue.
DTSTART;TZID=America/Denver:20170827T100000
DTEND;TZID=America/Denver:20170827T120000
END:VEVENT
END:VCALENDAR
