BEGIN:VCALENDAR
PRODID:-//eluceo/ical//2.0/EN
VERSION:2.0
CALSCALE:GREGORIAN
BEGIN:VEVENT
UID:aa4ae9c1b4af2663b7e1262e833c069b
DTSTAMP:20260420T215304Z
SUMMARY:What do Jews do on Christmas Eve? Eat Chinese food of course!
DESCRIPTION:United Jewish Federation of Utah\nCalendar\nhttps://shalomutah.
 org/united-jewish-federation-of-utah-calendar/what-do-jews-do-on-christmas
 -eve\n\nJoin the BeeCHAIs for our 3rd Annual What do Jews do on Christmas
  Eve? Eat Chinese food of course!\n\n \n\nCost\n\n$20 per adult\n$10 per 
 child (10 years and younger)\n \n\nOnline pre-payment is required to secu
 re your rsvp - space is limited\n\n \n\nHelp Those In Need\n\nGuests are 
 encouraged to bring items to donate to Jewish Family Service. They are  n
 eed of new or gently-used blankets\,children's pajamas\, and toiletries su
 ch as shampoo\, face soap and toothpaste. \n\n  \n\nWe look f...
DTSTART;TZID=America/Denver:20161224T180000
DTEND;TZID=America/Denver:20161224T210000
END:VEVENT
END:VCALENDAR
