BEGIN:VCALENDAR
PRODID:-//eluceo/ical//2.0/EN
VERSION:2.0
CALSCALE:GREGORIAN
BEGIN:VEVENT
UID:d04e01296492b505079f6f01b9eacf15
DTSTAMP:20260420T161827Z
SUMMARY:What Do Jews do on Xmas Eve 2019
DESCRIPTION:United Jewish Federation of Utah\nCalendar\nhttps://shalomutah.
 org/united-jewish-federation-of-utah-calendar/what-do-jews-do-on-xmas-eve-
 2019\n\nMore details to come
DTSTART;TZID=America/Denver:20191224T180000
DTEND;TZID=America/Denver:20191224T200000
END:VEVENT
END:VCALENDAR
