BEGIN:VCALENDAR
PRODID:-//eluceo/ical//2.0/EN
VERSION:2.0
CALSCALE:GREGORIAN
BEGIN:VEVENT
UID:fb1f65ab83e7ea79aea53984b76afcd5
DTSTAMP:20260421T025857Z
SUMMARY:What's a Shabbaton?
DESCRIPTION:United Jewish Federation of Utah\nCalendar\nhttps://shalomutah.
 org/united-jewish-federation-of-utah-calendar/whats-a-shabbaton-1547056115
 \n\nWe’re thrilled to host our first Shabbaton for teens in grades 6\, 7
 \, 8 + 9 here at Congregation Kol Ami!\n\nWhat’s a Shabbaton? A Shabbato
 n is an overnight (Friday-Saturday) program that brings friends together t
 o celebrate Shabbat as one community. Our weekend experience (over Shabbat
 ) includes tefillot (prayers)\, meals\, programs and of course\, ruach (Sh
 abbat spirit). Our two-day Shabbaton begins with programming on Friday aft
 ernoon and concludes with Havdalah (the ceremony that designat...
DTSTART;TZID=America/Denver:20190222T160000
DTEND;TZID=America/Denver:20190223T200000
END:VEVENT
END:VCALENDAR
