BEGIN:VCALENDAR
PRODID:-//eluceo/ical//2.0/EN
VERSION:2.0
CALSCALE:GREGORIAN
BEGIN:VEVENT
UID:f26a83142c965926e20ed90c2e898271
DTSTAMP:20260420T142235Z
SUMMARY:Who You Used to Be
DESCRIPTION:United Jewish Federation of Utah\nCalendar\nhttps://shalomutah.
 org/united-jewish-federation-of-utah-calendar/who-you-used-to-be-159899934
 5\n\nClass & discussion led by Michael Greenfield with an essay by Joan Di
 dion\nTo get a copy of the essay via email\, please contact Michael Greenf
 ield.\n\nJoan Didion said\, “I write entirely to find out what’s on my
  mind\, what I’m thinking\, what I’m looking at\, what I’m seeing an
 d what it means\, what I want and what I’m afraid of.” Luckily for us\
 , her writing helps us do the same. We’ll use this session to explore th
 e differences between truth and fact and ask questions about how ...
DTSTART;TZID=America/Denver:20200910T190000
DTEND;TZID=America/Denver:20200910T210000
END:VEVENT
END:VCALENDAR
