BEGIN:VCALENDAR
PRODID:-//eluceo/ical//2.0/EN
VERSION:2.0
CALSCALE:GREGORIAN
BEGIN:VEVENT
UID:5d9e848e18f58bec73db0f441d884937
DTSTAMP:20260423T004410Z
SUMMARY:"Why the Dead Sea Scrolls Matters to Jews and Christians"
DESCRIPTION:United Jewish Federation of Utah\nCalendar\nhttps://shalomutah.
 org/united-jewish-federation-of-utah-calendar/why-the-dead-sea-scrolls-mat
 ters-to-jews-and-christians\n\nDead Sea Scroll lecture
DTSTART;TZID=America/Denver:20131204T190000
DTEND;TZID=America/Denver:20131204T200000
END:VEVENT
END:VCALENDAR
