BEGIN:VCALENDAR
PRODID:-//eluceo/ical//2.0/EN
VERSION:2.0
CALSCALE:GREGORIAN
BEGIN:VEVENT
UID:588d6e77122f5ee13ab918409b816e06
DTSTAMP:20260421T215829Z
SUMMARY:Wine Tasting & Fundraising Gala
DESCRIPTION:United Jewish Federation of Utah\nCalendar\nhttps://shalomutah.
 org/united-jewish-federation-of-utah-calendar/wine-tasting--fundraising-ga
 la-1522719748\n\nDiscover how to develop your wine tasting abilities like 
 a professional!\n\nFeaturing special guest\, and wine expert\, Jim Santang
 elo from the Wine Academy of Utah\, you will explore wines from different 
 geographic regions and learn to refine your taste buds using sight\, smell
  and taste.\n\nThe night will include appetizers and a delectable three co
 urse meal\, with wine that has been specially selected to accompany each i
 ndividual course. Don’t miss out on this night of food\, fun and wine!\n
 \n...
DTSTART;TZID=America/Denver:20180505T180000
DTEND;TZID=America/Denver:20180505T200000
END:VEVENT
END:VCALENDAR
