BEGIN:VCALENDAR
PRODID:-//eluceo/ical//2.0/EN
VERSION:2.0
CALSCALE:GREGORIAN
BEGIN:VEVENT
UID:d36d8a88cf6a935059c8f40db21e8676
DTSTAMP:20260421T191527Z
SUMMARY:Women's Dinner and Discussion
DESCRIPTION:United Jewish Federation of Utah\nCalendar\nhttps://shalomutah.
 org/united-jewish-federation-of-utah-calendar/womens-dinner-and-discussion
 -1553791171\n\nOur very own Jackie Osherow has produced another book of po
 etry.\n\nShe will be reading from the newest selection and answering your 
 questions.\n\nWe will also have her newest book for sale with all proceeds
  going to the United Jewish Federation of Utah.
DTSTART;TZID=America/Denver:20190415T120000
DTEND;TZID=America/Denver:20190415T140000
END:VEVENT
END:VCALENDAR
