BEGIN:VCALENDAR
PRODID:-//eluceo/ical//2.0/EN
VERSION:2.0
CALSCALE:GREGORIAN
BEGIN:VEVENT
UID:481cff26f79a6330bf5a2016bc52c11f
DTSTAMP:20260420T072054Z
SUMMARY:Women's Dinner and Discussion
DESCRIPTION:United Jewish Federation of Utah\nCalendar\nhttps://shalomutah.
 org/united-jewish-federation-of-utah-calendar/womens-dinner-and-discussion
 -1565285815\n\nHealing Voices - Stories About Domestic Violence Survivors\
 n\nSpeaker: JoAnne Tucker\n\nJoAnne Tucker has a Ph.D. in theater from the
  University of Wisconsin. She taught at the University of the District of 
 Columbia and in the Doctor of Ministry Program of Hebrew Union College –
  Jewish Institute of Religion. She founded and directed the Avodah Dance E
 nsemble from 1973 to 2004\, a modern dance company based in New York City 
 that toured nationally and internationally. In 2002\, Avodah began doi...
DTSTART;TZID=America/Denver:20190820T190000
DTEND;TZID=America/Denver:20190820T210000
END:VEVENT
END:VCALENDAR
