BEGIN:VCALENDAR
PRODID:-//eluceo/ical//2.0/EN
VERSION:2.0
CALSCALE:GREGORIAN
BEGIN:VEVENT
UID:724492a74bb8d4f0edcf93ca52a8b763
DTSTAMP:20260421T115119Z
SUMMARY:Women's Dinner and Discussion
DESCRIPTION:United Jewish Federation of Utah\nCalendar\nhttps://shalomutah.
 org/united-jewish-federation-of-utah-calendar/womens-dinner-and-discussion
 -1570208832\n\nTopic: The Feminist side of Ushpizin\n\nSpeaker: Maeera Shr
 eiber\n\nBio: Maeera is a Professor of English at the University of Utah w
 ith specialties in Jewish-American Studies\, Literature and Ethnicity\, Wo
 men's Studies\, Critical Theory: Feminist Theory\, Psychoanalytic Theory\,
  Interdisciplinary Humanities courses\, Bible as Literature
DTSTART;TZID=America/Denver:20191016T190000
DTEND;TZID=America/Denver:20191016T210000
END:VEVENT
END:VCALENDAR
