BEGIN:VCALENDAR
PRODID:-//eluceo/ical//2.0/EN
VERSION:2.0
CALSCALE:GREGORIAN
BEGIN:VEVENT
UID:c403007fd32772d9de6df0fdd9f93f44
DTSTAMP:20260420T121159Z
SUMMARY:Women's Dinner and Discussion
DESCRIPTION:United Jewish Federation of Utah\nCalendar\nhttps://shalomutah.
 org/united-jewish-federation-of-utah-calendar/womens-dinner-and-discussion
 -1571676948\n\nHighlighting the great work our Federation partners are doi
 ng around the state
DTSTART;TZID=America/Denver:20191121T190000
DTEND;TZID=America/Denver:20191121T210000
END:VEVENT
END:VCALENDAR
