BEGIN:VCALENDAR
PRODID:-//eluceo/ical//2.0/EN
VERSION:2.0
CALSCALE:GREGORIAN
BEGIN:VEVENT
UID:bd2290ba508d544c29456edf84d60ca6
DTSTAMP:20260422T024552Z
SUMMARY:Women's Dinner and Discussion
DESCRIPTION:United Jewish Federation of Utah\nCalendar\nhttps://shalomutah.
 org/united-jewish-federation-of-utah-calendar/womens-dinner-and-discussion
 -1578329660\n\nPot luck dinner with discussion led by Dr. Donna Milavetz
DTSTART;TZID=America/Denver:20200129T190000
DTEND;TZID=America/Denver:20200129T210000
END:VEVENT
END:VCALENDAR
