BEGIN:VCALENDAR
PRODID:-//eluceo/ical//2.0/EN
VERSION:2.0
CALSCALE:GREGORIAN
BEGIN:VEVENT
UID:d29f6293fe4167c890f43c8e332bf18f
DTSTAMP:20260419T195920Z
SUMMARY:Women's Dinner and Discussion
DESCRIPTION:United Jewish Federation of Utah\nCalendar\nhttps://shalomutah.
 org/united-jewish-federation-of-utah-calendar/womens-dinner-and-discussion
 -1606156370\n\nHannukah - Judith and Chag Ha Banot - The Festival of Daugh
 ters\nIn North African countries\, the seventh night of Chanukah is known 
 as Chag haBanot\, the Festival of the Daughters. In honor of an underappre
 ciated heroine Judith –her story isn’t even included in the Tanach ! (
 the Hebrew Bible)\, old and young women alike gather to celebrate each oth
 er\, to tell family stories and to share wisdom\n\nJoin us to learn more a
 bout the story of Judith and to explore how we might draw on this lost t..
 .
DTSTART;TZID=America/Denver:20201202T190000
DTEND;TZID=America/Denver:20201202T200000
END:VEVENT
END:VCALENDAR
