BEGIN:VCALENDAR
PRODID:-//eluceo/ical//2.0/EN
VERSION:2.0
CALSCALE:GREGORIAN
BEGIN:VEVENT
UID:2fc0614ef6d0caa1b4a20cb6c5f13bb8
DTSTAMP:20260420T201147Z
SUMMARY:Women's Dinner and Discussion Wine Tasting
DESCRIPTION:United Jewish Federation of Utah\nCalendar\nhttps://shalomutah.
 org/united-jewish-federation-of-utah-calendar/womens-dinner-and-discussion
 -wine-tasting-1557768898\n\nThis month's Dinner and Discussion topic will 
 be wine. We will be lead on an exploration of different wines and their pr
 operties by John Davis\, wine connoisseur.
DTSTART;TZID=America/Denver:20190620T190000
DTEND;TZID=America/Denver:20190620T210000
END:VEVENT
END:VCALENDAR
