BEGIN:VCALENDAR
PRODID:-//eluceo/ical//2.0/EN
VERSION:2.0
CALSCALE:GREGORIAN
BEGIN:VEVENT
UID:2cb74587b4c5b0c196d403c2f1ec5edf
DTSTAMP:20260420T114759Z
SUMMARY:Women's Engagement: Brunch with Iris Kraemer
DESCRIPTION:United Jewish Federation of Utah\nCalendar\nhttps://shalomutah.
 org/united-jewish-federation-of-utah-calendar/womens-engagement-brunch-iri
 s-kraemer\n\nLion of Judah and Pomegranate Society Members are invited to 
 brunch!\n\nJoin Iris Kraemer\, JFNA's National Women's Philantropy Chair\,
  for a light burnch\, a discussion about the impact of Women's Philantropy
 \, and a special welcome ceremony for all new Utah Lions of Judah & Pomegr
 anate level donors.\n\nAddress in Park City. If interested in joining or m
 ore information\, contact Liz Paige\, Associate Director.\n\nlpaige@shalom
 utah.org
DTSTART;TZID=America/Denver:20240926T100000
DTEND;TZID=America/Denver:20240926T120000
END:VEVENT
END:VCALENDAR
