BEGIN:VCALENDAR
PRODID:-//eluceo/ical//2.0/EN
VERSION:2.0
CALSCALE:GREGORIAN
BEGIN:VEVENT
UID:18d544957414da21163364d4ed9330d9
DTSTAMP:20260420T205423Z
SUMMARY:Women's Engagement: Dessert & Dialogue
DESCRIPTION:United Jewish Federation of Utah\nCalendar\nhttps://shalomutah.
 org/united-jewish-federation-of-utah-calendar/womens-engagement-dessert-Di
 alogue-jul-024\n\nHow Today's Families Are Changing & Needing the Law \n\n
 About Lauren: \n\nLauren heads her the LRB Law Firm. She assists clients 
 through the legal processes of planning\, divorce\, dissolution\, custody\
 , adoption\, grandparent visitation\, guardianship\, and assisted reproduc
 tive technology. She is married to Tom Moyer\, a robotics engineer and cli
 mate activist. Together they have a daughter\, Mia\, and live in Park City
  in a net-zero home they built.\n\n \n\nHome of Liz Paige\n\nAddress shar
 ed afte...
DTSTART;TZID=America/Denver:20240711T190000
DTEND;TZID=America/Denver:20240711T210000
END:VEVENT
END:VCALENDAR
