BEGIN:VCALENDAR
PRODID:-//eluceo/ical//2.0/EN
VERSION:2.0
CALSCALE:GREGORIAN
BEGIN:VEVENT
UID:0f6eaabfa0c74484572fc1ae642b99ad
DTSTAMP:20260421T160153Z
SUMMARY:Women's Engagement: Plate Perfect!
DESCRIPTION:United Jewish Federation of Utah\nCalendar\nhttps://shalomutah.
 org/united-jewish-federation-of-utah-calendar/womens-engagement-plate-perf
 ect\n\nWe eat with our eyes!\n\nHere’s your chance to learn and create b
 eautiful food platings by adding a few new small tools and tricks to you
 r repertoire.\n\nYes\, you’ll get to eat your creations as well\, so com
 e hungry.\n\nLisa Bernath is a passionate at-home-cook who loves to creat
 e and entertain. She is a retired interior and home furnishings designer
  living in the St. George area. She is on the board of the United Jewish 
 Federation of Utah and Beit Chaverim Jewish Community of Great...
DTSTART;TZID=America/Denver:20240918T123000
DTEND;TZID=America/Denver:20240918T143000
END:VEVENT
END:VCALENDAR
