BEGIN:VCALENDAR
PRODID:-//eluceo/ical//2.0/EN
VERSION:2.0
CALSCALE:GREGORIAN
BEGIN:VEVENT
UID:704f4bb634f007f0690c7e9dc580d241
DTSTAMP:20260420T201337Z
SUMMARY:Women's Engagement: Volunteering @ JFS
DESCRIPTION:United Jewish Federation of Utah\nCalendar\nhttps://shalomutah.
 org/united-jewish-federation-of-utah-calendar/womens-engagement-volunteeri
 ng-at-JFS\n\nInformation coming soon.
DTSTART;TZID=America/Denver:20240926T130000
DTEND;TZID=America/Denver:20240926T150000
END:VEVENT
END:VCALENDAR
