BEGIN:VCALENDAR
PRODID:-//eluceo/ical//2.0/EN
VERSION:2.0
CALSCALE:GREGORIAN
BEGIN:VEVENT
UID:1677e2b8cdd0a257eca95e683b490581
DTSTAMP:20260420T115457Z
SUMMARY:Women's Engagement: Wine Tasting
DESCRIPTION:United Jewish Federation of Utah\nCalendar\nhttps://shalomutah.
 org/united-jewish-federation-of-utah-calendar/womens-engagement-wine-tasti
 ng-024\n\nWomen's Engagement Presents:\n\nAn Exclusive Wine Tasting\n\nLea
 rn about Italian wines from sommelier and Chef Chip McMullin\, owner of Pa
 rk City Culinary Institute.\n\nExclusively for women 21+. Limited seating 
 available.\n\n$36/person\n\nHosted at a private home in Salt Lake City. Ad
 dress provided after registration.\n\nRegister here: https://shalomutah.ti
 cketspice.com/womens-engagement-august-1st-wine-tasting
DTSTART;TZID=America/Denver:20240801T183000
DTEND;TZID=America/Denver:20240801T203000
END:VEVENT
END:VCALENDAR
