BEGIN:VCALENDAR
PRODID:-//eluceo/ical//2.0/EN
VERSION:2.0
CALSCALE:GREGORIAN
BEGIN:VEVENT
UID:7e7c3024711b200d8a5ba3b6bb464a62
DTSTAMP:20260422T104806Z
SUMMARY:Federation Women's Lunch and Learn
DESCRIPTION:United Jewish Federation of Utah\nCalendar\nhttps://shalomutah.
 org/united-jewish-federation-of-utah-calendar/womens-lunch-and-learn\n\nPl
 ease join us for Lunch and Learn on Tuesday\, November 3\, 2015\, 12:00
 pm-2:00pm\, at the home of Judy Horwitz\n\nDiscussion Leader:  Professor 
 Jackie Osherow\, distinguished Professor of English at the University of U
 tah\n\nReading Prep: Please read I Samuel\, chapters  20-31 as we progres
 s to tackle King David. \n\nRSVP:  doren@shalomutah.org  or call Drora 
 at 801-581-0102\n\nFood:   Please RSVP and sign up for food. We will need
  appetizer (2)\, bread (1)\, salads (3)\, side dish (4)\, mai...
DTSTART;TZID=America/Denver:20151103T120000
DTEND;TZID=America/Denver:20151103T140000
END:VEVENT
END:VCALENDAR
