BEGIN:VCALENDAR
PRODID:-//eluceo/ical//2.0/EN
VERSION:2.0
CALSCALE:GREGORIAN
BEGIN:VEVENT
UID:182f264ced731f16d0a79046455a2edd
DTSTAMP:20260421T061638Z
SUMMARY:Women's Lunch and Learn
DESCRIPTION:United Jewish Federation of Utah\nCalendar\nhttps://shalomutah.
 org/united-jewish-federation-of-utah-calendar/womens-lunch-and-learn-15567
 45072\n\nDiscussion Topic: Rosh Chodesh/The New Month\n\nText: Tanach (Com
 plete Jewish Scriptures)\n\nDiscussion Leader: Professor Jackie Osherow\, 
 distinguished Professor of English at the University of Utah.\n\nFood: Pot
  luck\, please ensure the dishes are dairy\, vegetarian or vegan.\n\nCost:
  Free
DTSTART;TZID=America/Denver:20190508T120000
DTEND;TZID=America/Denver:20190508T140000
END:VEVENT
END:VCALENDAR
