BEGIN:VCALENDAR
PRODID:-//eluceo/ical//2.0/EN
VERSION:2.0
CALSCALE:GREGORIAN
BEGIN:VEVENT
UID:94accef2d79e2a1fa6197fd0216dd84b
DTSTAMP:20260423T025253Z
SUMMARY:Women's Lunch and Learn
DESCRIPTION:United Jewish Federation of Utah\nCalendar\nhttps://shalomutah.
 org/united-jewish-federation-of-utah-calendar/womens-lunch-and-learn-15567
 45175\n\nDiscussion Topic: Shavuot\n\nText: Tanach (Complete Jewish Script
 ures)\n\nDiscussion Leader: Professor Jackie Osherow\, distinguished Profe
 ssor of English at the University of Utah.\n\nFood: Pot luck\, please ensu
 re the dishes are dairy\, vegetarian or vegan.\n\nCost: Free
DTSTART;TZID=America/Denver:20190612T120000
DTEND;TZID=America/Denver:20190612T140000
END:VEVENT
END:VCALENDAR
