BEGIN:VCALENDAR
PRODID:-//eluceo/ical//2.0/EN
VERSION:2.0
CALSCALE:GREGORIAN
BEGIN:VEVENT
UID:824abd755372c50643188e4b027c33c5
DTSTAMP:20260421T014808Z
SUMMARY:Women's Lunch and Learn
DESCRIPTION:United Jewish Federation of Utah\nCalendar\nhttps://shalomutah.
 org/united-jewish-federation-of-utah-calendar/womens-lunch-and-learn-15675
 23360\n\nSpeaker: Jaqueline Regev\n\nTopic: Jacqueline Regev is the Educat
 ion Director for the Anti-Defamtion League (ADL.) She is a former classroo
 m teacher and teacher educator with years of experience creating safe spac
 es for challenging conversations. Jacqueline directs ADL’s regional educ
 ation inititatives including the No Place for Hate® and A WORLD OF DIFFER
 ENCE®. Jacqueline’s work engages schools in community building workshop
 s to address bias and identity-based bullying while developing...
DTSTART;TZID=America/Denver:20190924T120000
DTEND;TZID=America/Denver:20190924T140000
END:VEVENT
END:VCALENDAR
