BEGIN:VCALENDAR
PRODID:-//eluceo/ical//2.0/EN
VERSION:2.0
CALSCALE:GREGORIAN
BEGIN:VEVENT
UID:4a3c7beda01efb5a3ead8115de8cca8e
DTSTAMP:20260420T010711Z
SUMMARY:Women's Lunch and Learn
DESCRIPTION:United Jewish Federation of Utah\nCalendar\nhttps://shalomutah.
 org/united-jewish-federation-of-utah-calendar/womens-lunch-and-learn-15716
 78365\n\nTopic: Challenges in Israel's Negev Region: Conflict and Dynamic 
 Social Change\n\nSpeaker: Dr Merav Moshe Grodofsky\n\nBio: Dr. Merav Moshe
 -Grodofsky is the Chair of the School of Social Work at Sapir College in I
 srael. She teaches\, practices\, writes and conducts research on human rig
 hts practice\, community organizing\, and the combination of the two as a 
 method to promote people-to-people relationships and peace building among 
 disadvantaged and multicultural groups within societies and betwee...
DTSTART;TZID=America/Denver:20191030T120000
DTEND;TZID=America/Denver:20191030T140000
END:VEVENT
END:VCALENDAR
