BEGIN:VCALENDAR
PRODID:-//eluceo/ical//2.0/EN
VERSION:2.0
CALSCALE:GREGORIAN
BEGIN:VEVENT
UID:4532dd0ac398bd313497af104f158cb3
DTSTAMP:20260421T011459Z
SUMMARY:Women's Lunch and Learn
DESCRIPTION:United Jewish Federation of Utah\nCalendar\nhttps://shalomutah.
 org/united-jewish-federation-of-utah-calendar/womens-lunch-and-learn-15986
 42655\n\nTopic: Communication is the Currency of Success: Public Speaking 
 for Refugee Youth\n\nSpeaker: Beth Noymer Levine
DTSTART;TZID=America/Denver:20200909T120000
DTEND;TZID=America/Denver:20200909T130000
END:VEVENT
END:VCALENDAR
