BEGIN:VCALENDAR
PRODID:-//eluceo/ical//2.0/EN
VERSION:2.0
CALSCALE:GREGORIAN
BEGIN:VEVENT
UID:7cb976ad69c8f173b93a9aa9643abfb2
DTSTAMP:20260421T011711Z
SUMMARY:Women's Lunch and Learn
DESCRIPTION:United Jewish Federation of Utah\nCalendar\nhttps://shalomutah.
 org/united-jewish-federation-of-utah-calendar/womens-lunch-and-learn-16061
 56768\n\nMoroccan Chanukah and how to make Sfinge\nOur schlicha Talia and 
 her friend Or\, will discuss Moroccan Chanukah customs and teach everyone 
 how to make a special kind of donut for Chanukah.
DTSTART;TZID=America/Denver:20201207T120000
DTEND;TZID=America/Denver:20201207T130000
END:VEVENT
END:VCALENDAR
