BEGIN:VCALENDAR
PRODID:-//eluceo/ical//2.0/EN
VERSION:2.0
CALSCALE:GREGORIAN
BEGIN:VEVENT
UID:7cce5e1835b3299d6754c0f76cc15ae0
DTSTAMP:20260420T094938Z
SUMMARY:Women's Lunch and Learn
DESCRIPTION:United Jewish Federation of Utah\nCalendar\nhttps://shalomutah.
 org/united-jewish-federation-of-utah-calendar/womens-lunch-and-learn1018\n
 \nSong of Songs\, Chapters 1 and 2.\n\nLed by Professor Jackie Osherow\,
  a distinguished Professor of English at the University of Utah.\n\n \n\n
 Email joyfisher@shalomutah.org for more information.\n\n 
DTSTART;TZID=America/Denver:20181003T120000
DTEND;TZID=America/Denver:20181003T140000
END:VEVENT
END:VCALENDAR
