BEGIN:VCALENDAR
PRODID:-//eluceo/ical//2.0/EN
VERSION:2.0
CALSCALE:GREGORIAN
BEGIN:VEVENT
UID:500b16ab83df3562ab1919576cc1ea78
DTSTAMP:20260420T080958Z
SUMMARY:Federation Women's Lunch & Learn
DESCRIPTION:United Jewish Federation of Utah\nCalendar\nhttps://shalomutah.
 org/united-jewish-federation-of-utah-calendar/womens-lunch-learn\n\nPlease
  join us for Lunch and Learn on Tuesday\, September 1\, 2015\, 12:00pm-2
 :00pm\, at the home of Beano Solomon\, 3268 Meadows Drive\, Park City\, UT
   84060           Phone:  435.940.0699\n\nDiscussion Leader: 
  Professor Jackie Osherow\, distinguished Professor of English at the Uni
 versity of Utah\n\nReading Prep: Please read I Samuel\, chapters 17-20 as 
 we progress to tackle King David. The suspense keeps growing as we are di
 scussing the famous story of David and Goliath.\n\nRSVP: ...
DTSTART;TZID=America/Denver:20150901T120000
DTEND;TZID=America/Denver:20150901T140000
END:VEVENT
END:VCALENDAR
