BEGIN:VCALENDAR
PRODID:-//eluceo/ical//2.0/EN
VERSION:2.0
CALSCALE:GREGORIAN
BEGIN:VEVENT
UID:966fdac1e4fc544ecc9d14ba04577931
DTSTAMP:20260421T111322Z
SUMMARY:Women's Lunch & Learn: Backyard Beehives
DESCRIPTION:United Jewish Federation of Utah\nCalendar\nhttps://shalomutah.
 org/united-jewish-federation-of-utah-calendar/womens-lunch-learn-backyard-
 beehives\n\nGuest Presenter: Jordyn Aldrich\, Agriculture Specialist from 
 Root Revival\n\nTopic: The current honeybee population and its importance 
 to our local food systems.\n\nJodie Sobel will proudly show off her backya
 rd hives as we learn more about the honeybees and the importance of backya
 rd hives.\n\nHosted by Jodie Sobel in Park City\, UT. Please bring your o
 wn brown bag lunch. Drinks and dessert will be provided. \n\nLocation prov
 ided after RSVP.\n\nRSVP: https://shalomutah.regfox.com/lunch-learn...
DTSTART;TZID=America/Denver:20220823T120000
DTEND;TZID=America/Denver:20220823T140000
END:VEVENT
END:VCALENDAR
