BEGIN:VCALENDAR
PRODID:-//eluceo/ical//2.0/EN
VERSION:2.0
CALSCALE:GREGORIAN
BEGIN:VEVENT
UID:948be7ce6db966fc1bcb32ce81fb494f
DTSTAMP:20260421T212144Z
SUMMARY:Women's Lunch & Learn: Ghostwriting
DESCRIPTION:United Jewish Federation of Utah\nCalendar\nhttps://shalomutah.
 org/united-jewish-federation-of-utah-calendar/womens-lunch-learn-ghostwrit
 ing\n\nDaniel Paisner is well-known to publishers (and\, alas\, somewhat l
 ess well-known to readers) as the author or co-author of more than 80 book
 s. As a ghostwriter\, he has written more than 70 books in collaboration w
 ith athletes\, actors\, politicians\, business leaders and ordinary indivi
 duals with extraordinary stories to tell. He is co-author of the acclaimed
  Holocaust memoir “The Girl in the Green Sweater\,” written with Kryst
 yna Chiger\, and the gripping 9/11 diary “Last Man Down\,” with F...
DTSTART;TZID=America/Denver:20241212T130000
DTEND;TZID=America/Denver:20241212T150000
END:VEVENT
END:VCALENDAR
