BEGIN:VCALENDAR
PRODID:-//eluceo/ical//2.0/EN
VERSION:2.0
CALSCALE:GREGORIAN
BEGIN:VEVENT
UID:bb78b3f9b464600e5362f37d9ef956f5
DTSTAMP:20260421T032602Z
SUMMARY:Women's Lunch & Learn: Professor Anne Greene
DESCRIPTION:United Jewish Federation of Utah\nCalendar\nhttps://shalomutah.
 org/united-jewish-federation-of-utah-calendar/womens-lunch-learn-professor
 -anne-greene\n\nhttps://shalomutah.regfox.com/womens-lunch-learn
DTSTART;TZID=America/Denver:20250203T003000
DTEND;TZID=America/Denver:20250203T143000
END:VEVENT
END:VCALENDAR
