BEGIN:VCALENDAR
PRODID:-//eluceo/ical//2.0/EN
VERSION:2.0
CALSCALE:GREGORIAN
BEGIN:VEVENT
UID:841fcc7db92b1fc9cb75489f622f2090
DTSTAMP:20260421T133634Z
SUMMARY:Women's Lunch & Learn: Understanding Utah Politics
DESCRIPTION:United Jewish Federation of Utah\nCalendar\nhttps://shalomutah.
 org/united-jewish-federation-of-utah-calendar/womens-lunch-learn-understan
 ding-utah-politics\n\nGuest Presenter: Senator Patrice Arent \n\nTopic: Du
 ring her 20 years in State Government she passed nearly 90 bills on a wide
  variety of topics including air quality\, election law\, health care\, ed
 ucation\, and identity theft. She was the founder and co-chair of the Legi
 slature’s bipartisan Clean Air Caucus \,was in House leadership\, and co
 -chaired the House Ethics Committee and Cultural Caucus. Patrice was the f
 irst woman and longest serving co-president of the National Association of
  Jewish...
DTSTART;TZID=America/Denver:20220915T120000
DTEND;TZID=America/Denver:20220915T140000
END:VEVENT
END:VCALENDAR
