BEGIN:VCALENDAR
PRODID:-//eluceo/ical//2.0/EN
VERSION:2.0
CALSCALE:GREGORIAN
BEGIN:VEVENT
UID:1e02bc8b12d2fe04802c4e740cbbda2c
DTSTAMP:20260421T191812Z
SUMMARY:Women's Mega Challah Bake
DESCRIPTION:United Jewish Federation of Utah\nCalendar\nhttps://shalomutah.
 org/united-jewish-federation-of-utah-calendar/womens-mega-challah-bake-147
 1475361\n\nJoin together with dozens of other Jewish women and girls (age 
 12 and over) in the timeless Jewish tradition of baking fresh Challah\, in
  preparation for the upcoming High Holidays! The Mega Challah Bake will be
  a time to be inspired by the rich symbolism and secrets contained in this
  feminine rite\; a time to rejoice in the beauty of our heritage with song
  and dance\; and a time to enjoy with delicious refreshments\, an assortme
 nt of Kosher wines\, and a great crowd!
DTSTART;TZID=America/Denver:20160922T193000
DTEND;TZID=America/Denver:20160922T213000
END:VEVENT
END:VCALENDAR
