BEGIN:VCALENDAR
PRODID:-//eluceo/ical//2.0/EN
VERSION:2.0
CALSCALE:GREGORIAN
BEGIN:VEVENT
UID:0c264fbd9f1a776bde14198a30a25a5b
DTSTAMP:20260420T154144Z
SUMMARY:Women's Mega Challah Bake!
DESCRIPTION:United Jewish Federation of Utah\nCalendar\nhttps://shalomutah.
 org/united-jewish-federation-of-utah-calendar/womens-mega-challah-bake-150
 0415813\n\nJoin together with dozens of other Jewish women and girls (age 
 12 and over) in the timeless Jewish tradition of baking fresh Challah\, in
  preparation for the upcoming High Holidays! The Mega Challah Bake will be
  a time to be inspired by the rich symbolism and secrets contained in this
  feminine rite\; a time to rejoice in the beauty of our heritage with song
  and dance\; and a time to enjoy with delicious refreshments\, an assortme
 nt of Kosher wines\, and a great crowd!
DTSTART;TZID=America/Denver:20170914T193000
DTEND;TZID=America/Denver:20170914T220000
END:VEVENT
END:VCALENDAR
