BEGIN:VCALENDAR
PRODID:-//eluceo/ical//2.0/EN
VERSION:2.0
CALSCALE:GREGORIAN
BEGIN:VEVENT
UID:3444a3694cd860088553878dbf3bda96
DTSTAMP:20260423T032840Z
SUMMARY:Women's Philanthropy Leadership Luncheon
DESCRIPTION:United Jewish Federation of Utah\nCalendar\nhttps://shalomutah.
 org/united-jewish-federation-of-utah-calendar/womens-philanthropy-leadersh
 ip-luncheon\n\nUnited Jewish Federation of Utah invites you to our inaugur
 al Women's Philanthropy Leadership Luncheon with guest speaker Shoshanna S
 chechter-Shaffin talking about Jewish Women - Making an Impact Yesterday\,
  Today and Tomorrow\, on May 1\, 2016\, 12pm - 2pm\, at Ruth Chris Wasat
 ch Room\, Hotel Park City. Cost $36.
DTSTART;TZID=America/Denver:20160501T120000
DTEND;TZID=America/Denver:20160501T140000
END:VEVENT
END:VCALENDAR
